BEGIN:VCALENDAR
VERSION:2.0
PRODID:-//wp-events-plugin.com//7.2.3.1//EN
BEGIN:VEVENT
UID:4@buengobierno.org.py
DTSTART:20231123T133000Z
DTEND:20231123T150000Z
DTSTAMP:20231116T151721Z
URL:https://www.buengobierno.org.py/events/el-aguinaldo-es-tu-derecho-admi
 nistrarlo-es-tu-decision-3/
SUMMARY:El Aguinaldo es tu derecho administrarlo es tu decisión
DESCRIPTION:En este programa\, exploraremos un tema que afecta a cada funci
 onario público en el país: el aguinaldo\, un beneficio fundamental que r
 econoce y recompensa su arduo trabajo y compromiso. A lo largo de esta cap
 acitación\, no solo aprenderemos sobre los aspectos legales y financieros
  relacionados con el aguinaldo\, sino también cómo tomar decisiones info
 rmadas y estratégicas para administrar este recurso de manera efectiva.
CATEGORIES:Capacitaciones
END:VEVENT
END:VCALENDAR